BEGIN:VCALENDAR
VERSION:2.0
PRODID:-//Breezes Bar &amp; Bistro - ECPv6.15.16.1//NONSGML v1.0//EN
CALSCALE:GREGORIAN
METHOD:PUBLISH
X-WR-CALNAME:Breezes Bar &amp; Bistro
X-ORIGINAL-URL:https://breezesbarbistro.com.au
X-WR-CALDESC:Events for Breezes Bar &amp; Bistro
REFRESH-INTERVAL;VALUE=DURATION:PT1H
X-Robots-Tag:noindex
X-PUBLISHED-TTL:PT1H
BEGIN:VTIMEZONE
TZID:UTC
BEGIN:STANDARD
TZOFFSETFROM:+0000
TZOFFSETTO:+0000
TZNAME:UTC
DTSTART:20240101T000000
END:STANDARD
END:VTIMEZONE
BEGIN:VEVENT
DTSTART;VALUE=DATE:20260414
DTEND;VALUE=DATE:20260415
DTSTAMP:20260420T084605
CREATED:20250517T032358Z
LAST-MODIFIED:20250517T032358Z
UID:5362-1776124800-1776211199@breezesbarbistro.com.au
SUMMARY:Burger Night
DESCRIPTION:
URL:https://breezesbarbistro.com.au/event/burger-night/2026-04-14/
CATEGORIES:Weekly Events
ATTACH;FMTTYPE=image/png:https://breezesbarbistro.com.au/wp-content/uploads/2025/05/Burger-Night.png
END:VEVENT
BEGIN:VEVENT
DTSTART;VALUE=DATE:20260407
DTEND;VALUE=DATE:20260408
DTSTAMP:20260420T084605
CREATED:20250517T032358Z
LAST-MODIFIED:20250517T032358Z
UID:5340-1775520000-1775606399@breezesbarbistro.com.au
SUMMARY:Burger Night
DESCRIPTION:
URL:https://breezesbarbistro.com.au/event/burger-night/2026-04-07/
CATEGORIES:Weekly Events
ATTACH;FMTTYPE=image/png:https://breezesbarbistro.com.au/wp-content/uploads/2025/05/Burger-Night.png
END:VEVENT
BEGIN:VEVENT
DTSTART;VALUE=DATE:20260331
DTEND;VALUE=DATE:20260401
DTSTAMP:20260420T084605
CREATED:20250517T032358Z
LAST-MODIFIED:20250517T032358Z
UID:5318-1774915200-1775001599@breezesbarbistro.com.au
SUMMARY:Burger Night
DESCRIPTION:
URL:https://breezesbarbistro.com.au/event/burger-night/2026-03-31/
CATEGORIES:Weekly Events
ATTACH;FMTTYPE=image/png:https://breezesbarbistro.com.au/wp-content/uploads/2025/05/Burger-Night.png
END:VEVENT
BEGIN:VEVENT
DTSTART;VALUE=DATE:20260324
DTEND;VALUE=DATE:20260325
DTSTAMP:20260420T084605
CREATED:20250517T032358Z
LAST-MODIFIED:20250517T032358Z
UID:5296-1774310400-1774396799@breezesbarbistro.com.au
SUMMARY:Burger Night
DESCRIPTION:
URL:https://breezesbarbistro.com.au/event/burger-night/2026-03-24/
CATEGORIES:Weekly Events
ATTACH;FMTTYPE=image/png:https://breezesbarbistro.com.au/wp-content/uploads/2025/05/Burger-Night.png
END:VEVENT
BEGIN:VEVENT
DTSTART;VALUE=DATE:20250506
DTEND;VALUE=DATE:20250507
DTSTAMP:20260420T084605
CREATED:20250517T032358Z
LAST-MODIFIED:20250521T043723Z
UID:4549-1746489600-1746575999@breezesbarbistro.com.au
SUMMARY:Burger Night
DESCRIPTION:
URL:https://breezesbarbistro.com.au/event/burger-night/2025-05-06/
CATEGORIES:Weekly Events
ATTACH;FMTTYPE=image/png:https://breezesbarbistro.com.au/wp-content/uploads/2025/05/Burger-Night.png
END:VEVENT
END:VCALENDAR