BEGIN:VCALENDAR
VERSION:2.0
PRODID:-//Breezes Bar &amp; Bistro - ECPv6.15.16.1//NONSGML v1.0//EN
CALSCALE:GREGORIAN
METHOD:PUBLISH
X-ORIGINAL-URL:https://breezesbarbistro.com.au
X-WR-CALDESC:Events for Breezes Bar &amp; Bistro
REFRESH-INTERVAL;VALUE=DURATION:PT1H
X-Robots-Tag:noindex
X-PUBLISHED-TTL:PT1H
BEGIN:VTIMEZONE
TZID:UTC
BEGIN:STANDARD
TZOFFSETFROM:+0000
TZOFFSETTO:+0000
TZNAME:UTC
DTSTART:20220101T000000
END:STANDARD
END:VTIMEZONE
BEGIN:VEVENT
DTSTART;VALUE=DATE:20260420
DTEND;VALUE=DATE:20260421
DTSTAMP:20260421T104141
CREATED:20230628T035848Z
LAST-MODIFIED:20230628T035848Z
UID:5381-1776643200-1776729599@breezesbarbistro.com.au
SUMMARY:Coffee & Cake Special
DESCRIPTION:
URL:https://breezesbarbistro.com.au/event/coffee-cake-special/2026-04-20/
CATEGORIES:Weekly Events
ATTACH;FMTTYPE=image/jpeg:https://breezesbarbistro.com.au/wp-content/uploads/2023/06/Breezes_Coffee-Cake_Social-Tile.jpg
END:VEVENT
BEGIN:VEVENT
DTSTART;VALUE=DATE:20260417
DTEND;VALUE=DATE:20260418
DTSTAMP:20260421T104141
CREATED:20230628T035848Z
LAST-MODIFIED:20230628T035848Z
UID:5375-1776384000-1776470399@breezesbarbistro.com.au
SUMMARY:Coffee & Cake Special
DESCRIPTION:
URL:https://breezesbarbistro.com.au/event/coffee-cake-special/2026-04-17/
CATEGORIES:Weekly Events
ATTACH;FMTTYPE=image/jpeg:https://breezesbarbistro.com.au/wp-content/uploads/2023/06/Breezes_Coffee-Cake_Social-Tile.jpg
END:VEVENT
BEGIN:VEVENT
DTSTART;VALUE=DATE:20260416
DTEND;VALUE=DATE:20260417
DTSTAMP:20260421T104141
CREATED:20230628T035848Z
LAST-MODIFIED:20230628T035848Z
UID:5370-1776297600-1776383999@breezesbarbistro.com.au
SUMMARY:Coffee & Cake Special
DESCRIPTION:
URL:https://breezesbarbistro.com.au/event/coffee-cake-special/2026-04-16/
CATEGORIES:Weekly Events
ATTACH;FMTTYPE=image/jpeg:https://breezesbarbistro.com.au/wp-content/uploads/2023/06/Breezes_Coffee-Cake_Social-Tile.jpg
END:VEVENT
BEGIN:VEVENT
DTSTART;VALUE=DATE:20260415
DTEND;VALUE=DATE:20260416
DTSTAMP:20260421T104141
CREATED:20230628T035848Z
LAST-MODIFIED:20230628T035848Z
UID:5369-1776211200-1776297599@breezesbarbistro.com.au
SUMMARY:Coffee & Cake Special
DESCRIPTION:
URL:https://breezesbarbistro.com.au/event/coffee-cake-special/2026-04-15/
CATEGORIES:Weekly Events
ATTACH;FMTTYPE=image/jpeg:https://breezesbarbistro.com.au/wp-content/uploads/2023/06/Breezes_Coffee-Cake_Social-Tile.jpg
END:VEVENT
BEGIN:VEVENT
DTSTART;VALUE=DATE:20260414
DTEND;VALUE=DATE:20260415
DTSTAMP:20260421T104141
CREATED:20230628T035848Z
LAST-MODIFIED:20230628T035848Z
UID:5360-1776124800-1776211199@breezesbarbistro.com.au
SUMMARY:Coffee & Cake Special
DESCRIPTION:
URL:https://breezesbarbistro.com.au/event/coffee-cake-special/2026-04-14/
CATEGORIES:Weekly Events
ATTACH;FMTTYPE=image/jpeg:https://breezesbarbistro.com.au/wp-content/uploads/2023/06/Breezes_Coffee-Cake_Social-Tile.jpg
END:VEVENT
BEGIN:VEVENT
DTSTART;VALUE=DATE:20260413
DTEND;VALUE=DATE:20260414
DTSTAMP:20260421T104141
CREATED:20230628T035848Z
LAST-MODIFIED:20230628T035848Z
UID:5359-1776038400-1776124799@breezesbarbistro.com.au
SUMMARY:Coffee & Cake Special
DESCRIPTION:
URL:https://breezesbarbistro.com.au/event/coffee-cake-special/2026-04-13/
CATEGORIES:Weekly Events
ATTACH;FMTTYPE=image/jpeg:https://breezesbarbistro.com.au/wp-content/uploads/2023/06/Breezes_Coffee-Cake_Social-Tile.jpg
END:VEVENT
BEGIN:VEVENT
DTSTART;VALUE=DATE:20260410
DTEND;VALUE=DATE:20260411
DTSTAMP:20260421T104141
CREATED:20230628T035848Z
LAST-MODIFIED:20230628T035848Z
UID:5353-1775779200-1775865599@breezesbarbistro.com.au
SUMMARY:Coffee & Cake Special
DESCRIPTION:
URL:https://breezesbarbistro.com.au/event/coffee-cake-special/2026-04-10/
CATEGORIES:Weekly Events
ATTACH;FMTTYPE=image/jpeg:https://breezesbarbistro.com.au/wp-content/uploads/2023/06/Breezes_Coffee-Cake_Social-Tile.jpg
END:VEVENT
BEGIN:VEVENT
DTSTART;VALUE=DATE:20260409
DTEND;VALUE=DATE:20260410
DTSTAMP:20260421T104141
CREATED:20230628T035848Z
LAST-MODIFIED:20230628T035848Z
UID:5348-1775692800-1775779199@breezesbarbistro.com.au
SUMMARY:Coffee & Cake Special
DESCRIPTION:
URL:https://breezesbarbistro.com.au/event/coffee-cake-special/2026-04-09/
CATEGORIES:Weekly Events
ATTACH;FMTTYPE=image/jpeg:https://breezesbarbistro.com.au/wp-content/uploads/2023/06/Breezes_Coffee-Cake_Social-Tile.jpg
END:VEVENT
BEGIN:VEVENT
DTSTART;VALUE=DATE:20260408
DTEND;VALUE=DATE:20260409
DTSTAMP:20260421T104141
CREATED:20230628T035848Z
LAST-MODIFIED:20230628T035848Z
UID:5347-1775606400-1775692799@breezesbarbistro.com.au
SUMMARY:Coffee & Cake Special
DESCRIPTION:
URL:https://breezesbarbistro.com.au/event/coffee-cake-special/2026-04-08/
CATEGORIES:Weekly Events
ATTACH;FMTTYPE=image/jpeg:https://breezesbarbistro.com.au/wp-content/uploads/2023/06/Breezes_Coffee-Cake_Social-Tile.jpg
END:VEVENT
BEGIN:VEVENT
DTSTART;VALUE=DATE:20260407
DTEND;VALUE=DATE:20260408
DTSTAMP:20260421T104141
CREATED:20230628T035848Z
LAST-MODIFIED:20230628T035848Z
UID:5338-1775520000-1775606399@breezesbarbistro.com.au
SUMMARY:Coffee & Cake Special
DESCRIPTION:
URL:https://breezesbarbistro.com.au/event/coffee-cake-special/2026-04-07/
CATEGORIES:Weekly Events
ATTACH;FMTTYPE=image/jpeg:https://breezesbarbistro.com.au/wp-content/uploads/2023/06/Breezes_Coffee-Cake_Social-Tile.jpg
END:VEVENT
BEGIN:VEVENT
DTSTART;VALUE=DATE:20260406
DTEND;VALUE=DATE:20260407
DTSTAMP:20260421T104141
CREATED:20230628T035848Z
LAST-MODIFIED:20230628T035848Z
UID:5337-1775433600-1775519999@breezesbarbistro.com.au
SUMMARY:Coffee & Cake Special
DESCRIPTION:
URL:https://breezesbarbistro.com.au/event/coffee-cake-special/2026-04-06/
CATEGORIES:Weekly Events
ATTACH;FMTTYPE=image/jpeg:https://breezesbarbistro.com.au/wp-content/uploads/2023/06/Breezes_Coffee-Cake_Social-Tile.jpg
END:VEVENT
BEGIN:VEVENT
DTSTART;VALUE=DATE:20260403
DTEND;VALUE=DATE:20260404
DTSTAMP:20260421T104141
CREATED:20230628T035848Z
LAST-MODIFIED:20230628T035848Z
UID:5331-1775174400-1775260799@breezesbarbistro.com.au
SUMMARY:Coffee & Cake Special
DESCRIPTION:
URL:https://breezesbarbistro.com.au/event/coffee-cake-special/2026-04-03/
CATEGORIES:Weekly Events
ATTACH;FMTTYPE=image/jpeg:https://breezesbarbistro.com.au/wp-content/uploads/2023/06/Breezes_Coffee-Cake_Social-Tile.jpg
END:VEVENT
BEGIN:VEVENT
DTSTART;VALUE=DATE:20260402
DTEND;VALUE=DATE:20260403
DTSTAMP:20260421T104141
CREATED:20230628T035848Z
LAST-MODIFIED:20230628T035848Z
UID:5326-1775088000-1775174399@breezesbarbistro.com.au
SUMMARY:Coffee & Cake Special
DESCRIPTION:
URL:https://breezesbarbistro.com.au/event/coffee-cake-special/2026-04-02/
CATEGORIES:Weekly Events
ATTACH;FMTTYPE=image/jpeg:https://breezesbarbistro.com.au/wp-content/uploads/2023/06/Breezes_Coffee-Cake_Social-Tile.jpg
END:VEVENT
BEGIN:VEVENT
DTSTART;VALUE=DATE:20260401
DTEND;VALUE=DATE:20260402
DTSTAMP:20260421T104141
CREATED:20230628T035848Z
LAST-MODIFIED:20230628T035848Z
UID:5325-1775001600-1775087999@breezesbarbistro.com.au
SUMMARY:Coffee & Cake Special
DESCRIPTION:
URL:https://breezesbarbistro.com.au/event/coffee-cake-special/2026-04-01/
CATEGORIES:Weekly Events
ATTACH;FMTTYPE=image/jpeg:https://breezesbarbistro.com.au/wp-content/uploads/2023/06/Breezes_Coffee-Cake_Social-Tile.jpg
END:VEVENT
BEGIN:VEVENT
DTSTART;VALUE=DATE:20260331
DTEND;VALUE=DATE:20260401
DTSTAMP:20260421T104141
CREATED:20230628T035848Z
LAST-MODIFIED:20230628T035848Z
UID:5316-1774915200-1775001599@breezesbarbistro.com.au
SUMMARY:Coffee & Cake Special
DESCRIPTION:
URL:https://breezesbarbistro.com.au/event/coffee-cake-special/2026-03-31/
CATEGORIES:Weekly Events
ATTACH;FMTTYPE=image/jpeg:https://breezesbarbistro.com.au/wp-content/uploads/2023/06/Breezes_Coffee-Cake_Social-Tile.jpg
END:VEVENT
BEGIN:VEVENT
DTSTART;VALUE=DATE:20260330
DTEND;VALUE=DATE:20260331
DTSTAMP:20260421T104141
CREATED:20230628T035848Z
LAST-MODIFIED:20230628T035848Z
UID:5315-1774828800-1774915199@breezesbarbistro.com.au
SUMMARY:Coffee & Cake Special
DESCRIPTION:
URL:https://breezesbarbistro.com.au/event/coffee-cake-special/2026-03-30/
CATEGORIES:Weekly Events
ATTACH;FMTTYPE=image/jpeg:https://breezesbarbistro.com.au/wp-content/uploads/2023/06/Breezes_Coffee-Cake_Social-Tile.jpg
END:VEVENT
BEGIN:VEVENT
DTSTART;VALUE=DATE:20260327
DTEND;VALUE=DATE:20260328
DTSTAMP:20260421T104141
CREATED:20230628T035848Z
LAST-MODIFIED:20230628T035848Z
UID:5309-1774569600-1774655999@breezesbarbistro.com.au
SUMMARY:Coffee & Cake Special
DESCRIPTION:
URL:https://breezesbarbistro.com.au/event/coffee-cake-special/2026-03-27/
CATEGORIES:Weekly Events
ATTACH;FMTTYPE=image/jpeg:https://breezesbarbistro.com.au/wp-content/uploads/2023/06/Breezes_Coffee-Cake_Social-Tile.jpg
END:VEVENT
BEGIN:VEVENT
DTSTART;VALUE=DATE:20260326
DTEND;VALUE=DATE:20260327
DTSTAMP:20260421T104141
CREATED:20230628T035848Z
LAST-MODIFIED:20230628T035848Z
UID:5304-1774483200-1774569599@breezesbarbistro.com.au
SUMMARY:Coffee & Cake Special
DESCRIPTION:
URL:https://breezesbarbistro.com.au/event/coffee-cake-special/2026-03-26/
CATEGORIES:Weekly Events
ATTACH;FMTTYPE=image/jpeg:https://breezesbarbistro.com.au/wp-content/uploads/2023/06/Breezes_Coffee-Cake_Social-Tile.jpg
END:VEVENT
BEGIN:VEVENT
DTSTART;VALUE=DATE:20260325
DTEND;VALUE=DATE:20260326
DTSTAMP:20260421T104141
CREATED:20230628T035848Z
LAST-MODIFIED:20230628T035848Z
UID:5303-1774396800-1774483199@breezesbarbistro.com.au
SUMMARY:Coffee & Cake Special
DESCRIPTION:
URL:https://breezesbarbistro.com.au/event/coffee-cake-special/2026-03-25/
CATEGORIES:Weekly Events
ATTACH;FMTTYPE=image/jpeg:https://breezesbarbistro.com.au/wp-content/uploads/2023/06/Breezes_Coffee-Cake_Social-Tile.jpg
END:VEVENT
BEGIN:VEVENT
DTSTART;VALUE=DATE:20260324
DTEND;VALUE=DATE:20260325
DTSTAMP:20260421T104141
CREATED:20230628T035848Z
LAST-MODIFIED:20230628T035848Z
UID:5294-1774310400-1774396799@breezesbarbistro.com.au
SUMMARY:Coffee & Cake Special
DESCRIPTION:
URL:https://breezesbarbistro.com.au/event/coffee-cake-special/2026-03-24/
CATEGORIES:Weekly Events
ATTACH;FMTTYPE=image/jpeg:https://breezesbarbistro.com.au/wp-content/uploads/2023/06/Breezes_Coffee-Cake_Social-Tile.jpg
END:VEVENT
BEGIN:VEVENT
DTSTART;VALUE=DATE:20260323
DTEND;VALUE=DATE:20260324
DTSTAMP:20260421T104141
CREATED:20230628T035848Z
LAST-MODIFIED:20230628T035848Z
UID:5293-1774224000-1774310399@breezesbarbistro.com.au
SUMMARY:Coffee & Cake Special
DESCRIPTION:
URL:https://breezesbarbistro.com.au/event/coffee-cake-special/2026-03-23/
CATEGORIES:Weekly Events
ATTACH;FMTTYPE=image/jpeg:https://breezesbarbistro.com.au/wp-content/uploads/2023/06/Breezes_Coffee-Cake_Social-Tile.jpg
END:VEVENT
BEGIN:VEVENT
DTSTART;VALUE=DATE:20260320
DTEND;VALUE=DATE:20260321
DTSTAMP:20260421T104141
CREATED:20230628T035848Z
LAST-MODIFIED:20230628T035848Z
UID:5287-1773964800-1774051199@breezesbarbistro.com.au
SUMMARY:Coffee & Cake Special
DESCRIPTION:
URL:https://breezesbarbistro.com.au/event/coffee-cake-special/2026-03-20/
CATEGORIES:Weekly Events
ATTACH;FMTTYPE=image/jpeg:https://breezesbarbistro.com.au/wp-content/uploads/2023/06/Breezes_Coffee-Cake_Social-Tile.jpg
END:VEVENT
BEGIN:VEVENT
DTSTART;VALUE=DATE:20230628
DTEND;VALUE=DATE:20230629
DTSTAMP:20260421T104141
CREATED:20230628T035848Z
LAST-MODIFIED:20230628T035848Z
UID:2458-1687910400-1687996799@breezesbarbistro.com.au
SUMMARY:Coffee & Cake Special
DESCRIPTION:
URL:https://breezesbarbistro.com.au/event/coffee-cake-special/2023-06-28/
CATEGORIES:Weekly Events
ATTACH;FMTTYPE=image/jpeg:https://breezesbarbistro.com.au/wp-content/uploads/2023/06/Breezes_Coffee-Cake_Social-Tile.jpg
END:VEVENT
END:VCALENDAR