BEGIN:VCALENDAR
VERSION:2.0
PRODID:-//Breezes Bar &amp; Bistro - ECPv6.15.16.1//NONSGML v1.0//EN
CALSCALE:GREGORIAN
METHOD:PUBLISH
X-WR-CALNAME:Breezes Bar &amp; Bistro
X-ORIGINAL-URL:https://breezesbarbistro.com.au
X-WR-CALDESC:Events for Breezes Bar &amp; Bistro
REFRESH-INTERVAL;VALUE=DURATION:PT1H
X-Robots-Tag:noindex
X-PUBLISHED-TTL:PT1H
BEGIN:VTIMEZONE
TZID:UTC
BEGIN:STANDARD
TZOFFSETFROM:+0000
TZOFFSETTO:+0000
TZNAME:UTC
DTSTART:20210101T000000
END:STANDARD
END:VTIMEZONE
BEGIN:VEVENT
DTSTART;TZID=UTC:20220615T000000
DTEND;TZID=UTC:20220615T233000
DTSTAMP:20260420T155146
CREATED:20220502T050306Z
LAST-MODIFIED:20220615T223009Z
UID:1338-1655251200-1655335800@breezesbarbistro.com.au
SUMMARY:Poker
DESCRIPTION:Curabitur non nulla sit amet nisl tempus convallis quis ac lectus. \nCurabitur arcu erat\, accumsan id imperdiet et\, porttitor at sem. \nVivamus magna justo\, lacinia eget consectetur sed\, convallis at tellus. \nCurabitur aliquet quam id dui posuere blandit. \nCurabitur arcu erat\, accumsan id imperdiet et\, porttitor at sem.
URL:https://breezesbarbistro.com.au/event/tuesday-poker/2022-06-15/
CATEGORIES:Weekly Events
ATTACH;FMTTYPE=image/png:https://breezesbarbistro.com.au/wp-content/uploads/2022/06/Placeholders.png
END:VEVENT
END:VCALENDAR