BEGIN:VCALENDAR
VERSION:2.0
PRODID:-//Breezes Bar &amp; Bistro - ECPv6.15.16.1//NONSGML v1.0//EN
CALSCALE:GREGORIAN
METHOD:PUBLISH
X-ORIGINAL-URL:https://breezesbarbistro.com.au
X-WR-CALDESC:Events for Breezes Bar &amp; Bistro
REFRESH-INTERVAL;VALUE=DURATION:PT1H
X-Robots-Tag:noindex
X-PUBLISHED-TTL:PT1H
BEGIN:VTIMEZONE
TZID:UTC
BEGIN:STANDARD
TZOFFSETFROM:+0000
TZOFFSETTO:+0000
TZNAME:UTC
DTSTART:20250101T000000
END:STANDARD
END:VTIMEZONE
BEGIN:VEVENT
DTSTART;VALUE=DATE:20260323
DTEND;VALUE=DATE:20260324
DTSTAMP:20260420T214455
CREATED:20230628T034815Z
LAST-MODIFIED:20230628T034815Z
UID:5291-1774224000-1774310399@breezesbarbistro.com.au
SUMMARY:Happy Hour
DESCRIPTION:
URL:https://breezesbarbistro.com.au/event/happy-hour-2/2026-03-23/
CATEGORIES:Weekly Events
ATTACH;FMTTYPE=image/jpeg:https://breezesbarbistro.com.au/wp-content/uploads/2023/05/MG_7795-1.jpg
END:VEVENT
BEGIN:VEVENT
DTSTART;VALUE=DATE:20260323
DTEND;VALUE=DATE:20260324
DTSTAMP:20260420T214455
CREATED:20230628T035547Z
LAST-MODIFIED:20230628T035547Z
UID:5290-1774224000-1774310399@breezesbarbistro.com.au
SUMMARY:Monday Parmy Army Special
DESCRIPTION:Join us every Monday for our Parmy Army Special! \nEnjoy a selection of 8 different parmi’s from on $20
URL:https://breezesbarbistro.com.au/event/tuesday-parmy-army-special/2026-03-23/
CATEGORIES:Weekly Events
ATTACH;FMTTYPE=image/webp:https://breezesbarbistro.com.au/wp-content/uploads/2023/06/Parmy-army-monday-4.webp
END:VEVENT
BEGIN:VEVENT
DTSTART;VALUE=DATE:20260323
DTEND;VALUE=DATE:20260324
DTSTAMP:20260420T214455
CREATED:20230628T035848Z
LAST-MODIFIED:20230628T035848Z
UID:5293-1774224000-1774310399@breezesbarbistro.com.au
SUMMARY:Coffee & Cake Special
DESCRIPTION:
URL:https://breezesbarbistro.com.au/event/coffee-cake-special/2026-03-23/
CATEGORIES:Weekly Events
ATTACH;FMTTYPE=image/jpeg:https://breezesbarbistro.com.au/wp-content/uploads/2023/06/Breezes_Coffee-Cake_Social-Tile.jpg
END:VEVENT
BEGIN:VEVENT
DTSTART;VALUE=DATE:20260324
DTEND;VALUE=DATE:20260325
DTSTAMP:20260420T214455
CREATED:20250517T032358Z
LAST-MODIFIED:20250517T032358Z
UID:5296-1774310400-1774396799@breezesbarbistro.com.au
SUMMARY:Burger Night
DESCRIPTION:
URL:https://breezesbarbistro.com.au/event/burger-night/2026-03-24/
CATEGORIES:Weekly Events
ATTACH;FMTTYPE=image/png:https://breezesbarbistro.com.au/wp-content/uploads/2025/05/Burger-Night.png
END:VEVENT
BEGIN:VEVENT
DTSTART;TZID=UTC:20260324T080000
DTEND;TZID=UTC:20260324T170000
DTSTAMP:20260420T214455
CREATED:20240703T033739Z
LAST-MODIFIED:20240703T033739Z
UID:5295-1774339200-1774371600@breezesbarbistro.com.au
SUMMARY:Tuesday Taco
DESCRIPTION:
URL:https://breezesbarbistro.com.au/event/tuesday-taco/2026-03-24/
ATTACH;FMTTYPE=image/webp:https://breezesbarbistro.com.au/wp-content/uploads/2024/07/Taco-tuesday-2.webp
END:VEVENT
BEGIN:VEVENT
DTSTART;VALUE=DATE:20260325
DTEND;VALUE=DATE:20260326
DTSTAMP:20260420T214455
CREATED:20230628T035738Z
LAST-MODIFIED:20230628T035738Z
UID:5299-1774396800-1774483199@breezesbarbistro.com.au
SUMMARY:Wednesday Steak Night
DESCRIPTION:Join us on Wednesday nights to enjoy our steak specials! \nAn amazing 300g rump steak\, chips & salad for only $25
URL:https://breezesbarbistro.com.au/event/wednesday-steak-night/2026-03-25/
CATEGORIES:Weekly Events
ATTACH;FMTTYPE=image/jpeg:https://breezesbarbistro.com.au/wp-content/uploads/2023/06/Breezes_Steak-Night_Social.jpg
END:VEVENT
BEGIN:VEVENT
DTSTART;TZID=UTC:20260325T183000
DTEND;TZID=UTC:20260325T183000
DTSTAMP:20260420T214456
CREATED:20240703T034306Z
LAST-MODIFIED:20240703T034306Z
UID:5298-1774463400-1774463400@breezesbarbistro.com.au
SUMMARY:Trivia
DESCRIPTION:$25 Rump Steak
URL:https://breezesbarbistro.com.au/event/trivia/2026-03-25/
CATEGORIES:Weekly Events
ATTACH;FMTTYPE=image/webp:https://breezesbarbistro.com.au/wp-content/uploads/2024/07/Fruit-bat-trivia-2.webp
END:VEVENT
BEGIN:VEVENT
DTSTART;TZID=UTC:20260326T173000
DTEND;TZID=UTC:20260326T173000
DTSTAMP:20260420T214456
CREATED:20230310T014308Z
LAST-MODIFIED:20230310T014308Z
UID:5305-1774546200-1774546200@breezesbarbistro.com.au
SUMMARY:Kids Eat Free
DESCRIPTION:
URL:https://breezesbarbistro.com.au/event/kids-eat-free/2026-03-26/
CATEGORIES:Weekly Events
ATTACH;FMTTYPE=image/jpeg:https://breezesbarbistro.com.au/wp-content/uploads/2023/03/kids-eat-free.jpg
END:VEVENT
BEGIN:VEVENT
DTSTART;TZID=UTC:20260326T183000
DTEND;TZID=UTC:20260326T183000
DTSTAMP:20260420T214456
CREATED:20240703T034522Z
LAST-MODIFIED:20240703T034522Z
UID:5306-1774549800-1774549800@breezesbarbistro.com.au
SUMMARY:Musical Bingo
DESCRIPTION:
URL:https://breezesbarbistro.com.au/event/musical-bingo/2026-03-26/
CATEGORIES:Weekly Events
ATTACH;FMTTYPE=image/webp:https://breezesbarbistro.com.au/wp-content/uploads/2024/07/Musical-Bingo-1.1.webp
END:VEVENT
BEGIN:VEVENT
DTSTART;VALUE=DATE:20260327
DTEND;VALUE=DATE:20260328
DTSTAMP:20260420T214456
CREATED:20230310T002605Z
LAST-MODIFIED:20230310T002605Z
UID:5307-1774569600-1774655999@breezesbarbistro.com.au
SUMMARY:New Cocktail Special
DESCRIPTION:
URL:https://breezesbarbistro.com.au/event/summer-mojito/2026-03-27/
CATEGORIES:Weekly Events
ATTACH;FMTTYPE=image/jpeg:https://breezesbarbistro.com.au/wp-content/uploads/2023/05/MG_8547.jpg
END:VEVENT
BEGIN:VEVENT
DTSTART;VALUE=DATE:20260329
DTEND;VALUE=DATE:20260330
DTSTAMP:20260420T214456
CREATED:20230310T013311Z
LAST-MODIFIED:20230310T013311Z
UID:5311-1774742400-1774828799@breezesbarbistro.com.au
SUMMARY:Sunday Roast
DESCRIPTION:
URL:https://breezesbarbistro.com.au/event/sunday-roast-2023-06-11/2026-03-29/
CATEGORIES:Weekly Events
ATTACH;FMTTYPE=image/jpeg:https://breezesbarbistro.com.au/wp-content/uploads/2023/03/sunday-roast.jpg
END:VEVENT
END:VCALENDAR